BEGIN:VCALENDAR
VERSION:2.0
PRODID:-//Kentfield Schools PTA - ECPv6.15.20//NONSGML v1.0//EN
CALSCALE:GREGORIAN
METHOD:PUBLISH
X-ORIGINAL-URL:https://www.kspta.org
X-WR-CALDESC:Events for Kentfield Schools PTA
REFRESH-INTERVAL;VALUE=DURATION:PT1H
X-Robots-Tag:noindex
X-PUBLISHED-TTL:PT1H
BEGIN:VTIMEZONE
TZID:America/Los_Angeles
BEGIN:DAYLIGHT
TZOFFSETFROM:-0800
TZOFFSETTO:-0700
TZNAME:PDT
DTSTART:20240310T100000
END:DAYLIGHT
BEGIN:STANDARD
TZOFFSETFROM:-0700
TZOFFSETTO:-0800
TZNAME:PST
DTSTART:20241103T090000
END:STANDARD
BEGIN:DAYLIGHT
TZOFFSETFROM:-0800
TZOFFSETTO:-0700
TZNAME:PDT
DTSTART:20250309T100000
END:DAYLIGHT
BEGIN:STANDARD
TZOFFSETFROM:-0700
TZOFFSETTO:-0800
TZNAME:PST
DTSTART:20251102T090000
END:STANDARD
BEGIN:DAYLIGHT
TZOFFSETFROM:-0800
TZOFFSETTO:-0700
TZNAME:PDT
DTSTART:20260308T100000
END:DAYLIGHT
BEGIN:STANDARD
TZOFFSETFROM:-0700
TZOFFSETTO:-0800
TZNAME:PST
DTSTART:20261101T090000
END:STANDARD
END:VTIMEZONE
BEGIN:VEVENT
DTSTART;TZID=America/Los_Angeles:20251028T173000
DTEND;TZID=America/Los_Angeles:20251028T183000
DTSTAMP:20260423T170528
CREATED:20251011T163222Z
LAST-MODIFIED:20251011T163448Z
UID:52230-1761672600-1761676200@www.kspta.org
SUMMARY:Parent Ed. Event (Oct. 28)
DESCRIPTION:Parent Discussion Evening: Exploring Challenging Topics \nHas your child ever made a comment about skin color that felt challenging to respond to? Do you ever wonder how to talk with your child about privilege or socioeconomic diversity? Do you wonder if there’s a right age to start having these conversations with your children? \nLet’s work on it together! Come join in on a conversation around these topics where we can share knowledge\, experience\, wonderings and fears\, and learn from each other. There’s no one right way to do it! \nThis parent education event will be focused on getting comfortable talking about these topics with each other as a foundation to build meaningful conversations with our children. \nTime and Place:Tuesday\, October 28\, 5:30–6:30 pmBacich Library \nMore information: Email KSPTA VP of Parent Education\, Cici Malin at cicimalin14@gmail.com
URL:https://www.kspta.org/event/parent-discussion-evening-exploring-challenging-topics/
LOCATION:Bacich Elementary School\, 699 Sir Francis Drake Blvd\, Kentfield\, CA\, 94904\, United States
CATEGORIES:Event,KSPTA Event
ATTACH;FMTTYPE=image/png:https://www.kspta.org/wp-content/uploads/2025/10/unnamed-3.webp
ORGANIZER;CN="KSPTA":MAILTO:info@kspta.org
END:VEVENT
END:VCALENDAR