BEGIN:VCALENDAR
VERSION:2.0
PRODID:-//Kentfield Schools PTA - ECPv6.15.20//NONSGML v1.0//EN
CALSCALE:GREGORIAN
METHOD:PUBLISH
X-WR-CALNAME:Kentfield Schools PTA
X-ORIGINAL-URL:https://www.kspta.org
X-WR-CALDESC:Events for Kentfield Schools PTA
REFRESH-INTERVAL;VALUE=DURATION:PT1H
X-Robots-Tag:noindex
X-PUBLISHED-TTL:PT1H
BEGIN:VTIMEZONE
TZID:America/Los_Angeles
BEGIN:DAYLIGHT
TZOFFSETFROM:-0800
TZOFFSETTO:-0700
TZNAME:PDT
DTSTART:20240310T100000
END:DAYLIGHT
BEGIN:STANDARD
TZOFFSETFROM:-0700
TZOFFSETTO:-0800
TZNAME:PST
DTSTART:20241103T090000
END:STANDARD
BEGIN:DAYLIGHT
TZOFFSETFROM:-0800
TZOFFSETTO:-0700
TZNAME:PDT
DTSTART:20250309T100000
END:DAYLIGHT
BEGIN:STANDARD
TZOFFSETFROM:-0700
TZOFFSETTO:-0800
TZNAME:PST
DTSTART:20251102T090000
END:STANDARD
BEGIN:DAYLIGHT
TZOFFSETFROM:-0800
TZOFFSETTO:-0700
TZNAME:PDT
DTSTART:20260308T100000
END:DAYLIGHT
BEGIN:STANDARD
TZOFFSETFROM:-0700
TZOFFSETTO:-0800
TZNAME:PST
DTSTART:20261101T090000
END:STANDARD
END:VTIMEZONE
BEGIN:VEVENT
DTSTART;TZID=America/Los_Angeles:20251031T084500
DTEND;TZID=America/Los_Angeles:20251031T084500
DTSTAMP:20260423T170323
CREATED:20251011T004731Z
LAST-MODIFIED:20251011T004843Z
UID:52224-1761900300-1761900300@www.kspta.org
SUMMARY:Bacich Halloween Parade (Oct. 31)
DESCRIPTION:KSPTA is excited to host the Annual Bacich Halloween/Fall Parade on Friday\, October 31! \nThe Parade will begin at 8:45am with the students departing from the Kindergarten lot. This is an adorable and fun event and all families are invited to join the parade route to watch the classes. \nWe still need volunteers – sign up to help HERE!!!
URL:https://www.kspta.org/event/bacich-halloween-parade-oct-31/
LOCATION:Bacich Elementary School\, 699 Sir Francis Drake Blvd\, Kentfield\, CA\, 94904\, United States
CATEGORIES:Event,KSPTA Event
ATTACH;FMTTYPE=image/png:https://www.kspta.org/wp-content/uploads/2025/10/unnamed-2.webp
ORGANIZER;CN="KSPTA":MAILTO:info@kspta.org
END:VEVENT
END:VCALENDAR