BEGIN:VCALENDAR
VERSION:2.0
PRODID:-//Kentfield Schools PTA - ECPv6.15.20//NONSGML v1.0//EN
CALSCALE:GREGORIAN
METHOD:PUBLISH
X-ORIGINAL-URL:https://www.kspta.org
X-WR-CALDESC:Events for Kentfield Schools PTA
REFRESH-INTERVAL;VALUE=DURATION:PT1H
X-Robots-Tag:noindex
X-PUBLISHED-TTL:PT1H
BEGIN:VTIMEZONE
TZID:America/Los_Angeles
BEGIN:DAYLIGHT
TZOFFSETFROM:-0800
TZOFFSETTO:-0700
TZNAME:PDT
DTSTART:20240310T100000
END:DAYLIGHT
BEGIN:STANDARD
TZOFFSETFROM:-0700
TZOFFSETTO:-0800
TZNAME:PST
DTSTART:20241103T090000
END:STANDARD
BEGIN:DAYLIGHT
TZOFFSETFROM:-0800
TZOFFSETTO:-0700
TZNAME:PDT
DTSTART:20250309T100000
END:DAYLIGHT
BEGIN:STANDARD
TZOFFSETFROM:-0700
TZOFFSETTO:-0800
TZNAME:PST
DTSTART:20251102T090000
END:STANDARD
BEGIN:DAYLIGHT
TZOFFSETFROM:-0800
TZOFFSETTO:-0700
TZNAME:PDT
DTSTART:20260308T100000
END:DAYLIGHT
BEGIN:STANDARD
TZOFFSETFROM:-0700
TZOFFSETTO:-0800
TZNAME:PST
DTSTART:20261101T090000
END:STANDARD
END:VTIMEZONE
BEGIN:VEVENT
DTSTART;VALUE=DATE:20251103
DTEND;VALUE=DATE:20251108
DTSTAMP:20260423T170528
CREATED:20251011T003747Z
LAST-MODIFIED:20251011T003922Z
UID:52219-1762128000-1762559999@www.kspta.org
SUMMARY:Book Fair (Nov. 3-7)
DESCRIPTION:Get ready for the 2025 Book Fair! This beloved event benefits the KSPTA and encourages our students to fall in love with reading (and writing!) all over again. \nThe Book Fair runs from Monday\, November 3 to Friday\, November 7. Get excited for Taco Tuesday family dinner\, Wednesday Early-Release Popcorn\, and Thursday night Cookies & Cocoa! \nIf you are available to volunteer\, please sign-up at this link: \n\n2025 Book Fair Volunteer Sign-up
URL:https://www.kspta.org/event/book-fair-2025/
LOCATION:Bacich Elementary School\, 699 Sir Francis Drake Blvd\, Kentfield\, CA\, 94904\, United States
CATEGORIES:KSPTA Event
ATTACH;FMTTYPE=application/pdf:https://www.kspta.org/wp-content/uploads/2025/10/2025-KSPTA-Book-Fair-Flyer-2.pdf
ORGANIZER;CN="KSPTA":MAILTO:info@kspta.org
END:VEVENT
END:VCALENDAR