BEGIN:VCALENDAR
VERSION:2.0
PRODID:-//Kentfield Schools PTA - ECPv6.15.20//NONSGML v1.0//EN
CALSCALE:GREGORIAN
METHOD:PUBLISH
X-ORIGINAL-URL:https://www.kspta.org
X-WR-CALDESC:Events for Kentfield Schools PTA
REFRESH-INTERVAL;VALUE=DURATION:PT1H
X-Robots-Tag:noindex
X-PUBLISHED-TTL:PT1H
BEGIN:VTIMEZONE
TZID:America/Los_Angeles
BEGIN:DAYLIGHT
TZOFFSETFROM:-0800
TZOFFSETTO:-0700
TZNAME:PDT
DTSTART:20240310T100000
END:DAYLIGHT
BEGIN:STANDARD
TZOFFSETFROM:-0700
TZOFFSETTO:-0800
TZNAME:PST
DTSTART:20241103T090000
END:STANDARD
BEGIN:DAYLIGHT
TZOFFSETFROM:-0800
TZOFFSETTO:-0700
TZNAME:PDT
DTSTART:20250309T100000
END:DAYLIGHT
BEGIN:STANDARD
TZOFFSETFROM:-0700
TZOFFSETTO:-0800
TZNAME:PST
DTSTART:20251102T090000
END:STANDARD
BEGIN:DAYLIGHT
TZOFFSETFROM:-0800
TZOFFSETTO:-0700
TZNAME:PDT
DTSTART:20260308T100000
END:DAYLIGHT
BEGIN:STANDARD
TZOFFSETFROM:-0700
TZOFFSETTO:-0800
TZNAME:PST
DTSTART:20261101T090000
END:STANDARD
END:VTIMEZONE
BEGIN:VEVENT
DTSTART;VALUE=DATE:20251114
DTEND;VALUE=DATE:20251116
DTSTAMP:20260423T171246
CREATED:20251107T194033Z
LAST-MODIFIED:20251107T194625Z
UID:52285-1763078400-1763251199@www.kspta.org
SUMMARY:Kent Musical (Nov. 14 & 15)
DESCRIPTION:Come see the Kent student performers take the stage for this year’s musical\, Peter Pan JR. \nOne starry night\, Peter Pan and his mischievous fairy sidekick\, Tinkerbell\, whisk Wendy\, John\, and Michael Darling away to Neverland\, where they encounter the daring Brave Girls\, a ticking crocodile\, a band of bumbling pirates\, and the villainous Captain Hook. With unforgettable songs like “I’m Flying\,” “I Won’t Grow Up\,” and “Never Never Land\,” this show is bursting with magic\, warmth\, and adventure. \nPerfect for dreamers of all ages\, Peter Pan JR. is a heartwarming reminder that growing up is optional—and that with a little faith\, trust\, and pixie dust\, anything is possible! \nAppropriate for all ages (calling all Bacich Bears!). Runtime is 60 minutes. \nShowtimes at Kent: \n\nFriday\, November 14 at 6:30pm\nSaturday\, November 15 at 2:30pm and 6:30pm\n\nPurchase tickets HERE (free for Kent students!). Pre-order flowers HERE.
URL:https://www.kspta.org/event/kent-middle-musical-fall-2025/
LOCATION:Kent Middle School\, 800 College Ave\, Kentfield\, CA\, 94904\, United States
CATEGORIES:Event
ATTACH;FMTTYPE=image/png:https://www.kspta.org/wp-content/uploads/2025/11/unnamed-5.avif
END:VEVENT
END:VCALENDAR