BEGIN:VCALENDAR
VERSION:2.0
PRODID:-//Kentfield Schools PTA - ECPv6.15.20//NONSGML v1.0//EN
CALSCALE:GREGORIAN
METHOD:PUBLISH
X-ORIGINAL-URL:https://www.kspta.org
X-WR-CALDESC:Events for Kentfield Schools PTA
REFRESH-INTERVAL;VALUE=DURATION:PT1H
X-Robots-Tag:noindex
X-PUBLISHED-TTL:PT1H
BEGIN:VTIMEZONE
TZID:America/Los_Angeles
BEGIN:DAYLIGHT
TZOFFSETFROM:-0800
TZOFFSETTO:-0700
TZNAME:PDT
DTSTART:20240310T100000
END:DAYLIGHT
BEGIN:STANDARD
TZOFFSETFROM:-0700
TZOFFSETTO:-0800
TZNAME:PST
DTSTART:20241103T090000
END:STANDARD
BEGIN:DAYLIGHT
TZOFFSETFROM:-0800
TZOFFSETTO:-0700
TZNAME:PDT
DTSTART:20250309T100000
END:DAYLIGHT
BEGIN:STANDARD
TZOFFSETFROM:-0700
TZOFFSETTO:-0800
TZNAME:PST
DTSTART:20251102T090000
END:STANDARD
BEGIN:DAYLIGHT
TZOFFSETFROM:-0800
TZOFFSETTO:-0700
TZNAME:PDT
DTSTART:20260308T100000
END:DAYLIGHT
BEGIN:STANDARD
TZOFFSETFROM:-0700
TZOFFSETTO:-0800
TZNAME:PST
DTSTART:20261101T090000
END:STANDARD
END:VTIMEZONE
BEGIN:VEVENT
DTSTART;TZID=America/Los_Angeles:20251202T183000
DTEND;TZID=America/Los_Angeles:20251202T194500
DTSTAMP:20260423T153541
CREATED:20251118T135928Z
LAST-MODIFIED:20251118T135928Z
UID:52307-1764700200-1764704700@www.kspta.org
SUMMARY:Parent Ed. Event (Dec. 2)
DESCRIPTION:TK-8th Grade Parent/Caregiver Ed: So.Many.Screens by ScreenSense\n\n\nTuesday\, Dec. 2\, 6:30–7:45 p.m.\, Kent Library\, view flyer in English & Spanish.\n\nParents and caregivers are flooded with tech decisions—and many say it’s their toughest parenting challenge. Creating shared norms around early tech use can take pressure off families (and kids). Our presenters from ScreenSense will help normalize talking openly — and in community — about the nonstop tech choices families face. They’ll break down what current research shows\, how to keep tech in check\, and ways to reduce online harm by age and stage of development. They will also highlight the IRL (In Real Life) experiences that matter most for healthy development and how communities can support one another. The presentation will include an introduction to the Marin countywide collective action movement: Kids IRL.\n\nYou can learn more about ScreenSense and Kids IRL here.\nIf you cannot attend in person or prefer to join via Zoom\, please use this link.
URL:https://www.kspta.org/event/parent-ed-event-dec-2/
LOCATION:Kent Middle School\, 800 College Ave\, Kentfield\, CA\, 94904\, United States
CATEGORIES:Event,KSPTA Event
ATTACH;FMTTYPE=application/pdf:https://www.kspta.org/wp-content/uploads/2025/11/2025-12-02-tech-time-flyer.pdf
ORGANIZER;CN="KSPTA":MAILTO:info@kspta.org
END:VEVENT
END:VCALENDAR