BEGIN:VCALENDAR
VERSION:2.0
PRODID:-//Kentfield Schools PTA - ECPv6.15.20//NONSGML v1.0//EN
CALSCALE:GREGORIAN
METHOD:PUBLISH
X-WR-CALNAME:Kentfield Schools PTA
X-ORIGINAL-URL:https://www.kspta.org
X-WR-CALDESC:Events for Kentfield Schools PTA
REFRESH-INTERVAL;VALUE=DURATION:PT1H
X-Robots-Tag:noindex
X-PUBLISHED-TTL:PT1H
BEGIN:VTIMEZONE
TZID:America/Los_Angeles
BEGIN:DAYLIGHT
TZOFFSETFROM:-0800
TZOFFSETTO:-0700
TZNAME:PDT
DTSTART:20240310T100000
END:DAYLIGHT
BEGIN:STANDARD
TZOFFSETFROM:-0700
TZOFFSETTO:-0800
TZNAME:PST
DTSTART:20241103T090000
END:STANDARD
BEGIN:DAYLIGHT
TZOFFSETFROM:-0800
TZOFFSETTO:-0700
TZNAME:PDT
DTSTART:20250309T100000
END:DAYLIGHT
BEGIN:STANDARD
TZOFFSETFROM:-0700
TZOFFSETTO:-0800
TZNAME:PST
DTSTART:20251102T090000
END:STANDARD
BEGIN:DAYLIGHT
TZOFFSETFROM:-0800
TZOFFSETTO:-0700
TZNAME:PDT
DTSTART:20260308T100000
END:DAYLIGHT
BEGIN:STANDARD
TZOFFSETFROM:-0700
TZOFFSETTO:-0800
TZNAME:PST
DTSTART:20261101T090000
END:STANDARD
END:VTIMEZONE
BEGIN:VEVENT
DTSTART;TZID=America/Los_Angeles:20251210T130000
DTEND;TZID=America/Los_Angeles:20251210T150000
DTSTAMP:20260423T153513
CREATED:20251107T014658Z
LAST-MODIFIED:20251107T145621Z
UID:52263-1765371600-1765378800@www.kspta.org
SUMMARY:Winter Market (Dec. 10)
DESCRIPTION:We’re excited to announce the 3rd annual Winter Market! \n\nWhen: Wednesday December 10\, 2025 from 1-3 PM\nWhere: Bacich Community Center\n\nThe market will feature handmade items by Bacich and Kent students.\n\nApplications are due by November 28.  Please apply using our online form or have your child return a paper version to their homeroom/first period.\n\nInteresting in helping plan? Email events@kspta.org to join the Winter Market Planning Committee.\n\nSee you at the Market!
URL:https://www.kspta.org/event/winter-market-2025/
LOCATION:Bacich Elementary School\, 699 Sir Francis Drake Blvd\, Kentfield\, CA\, 94904\, United States
CATEGORIES:Event,KSPTA Event
ATTACH;FMTTYPE=image/png:https://www.kspta.org/wp-content/uploads/2025/11/unnamed-4.avif
ORGANIZER;CN="KSPTA":MAILTO:info@kspta.org
END:VEVENT
END:VCALENDAR