BEGIN:VCALENDAR
VERSION:2.0
PRODID:-//Kentfield Schools PTA - ECPv6.15.20//NONSGML v1.0//EN
CALSCALE:GREGORIAN
METHOD:PUBLISH
X-WR-CALNAME:Kentfield Schools PTA
X-ORIGINAL-URL:https://www.kspta.org
X-WR-CALDESC:Events for Kentfield Schools PTA
REFRESH-INTERVAL;VALUE=DURATION:PT1H
X-Robots-Tag:noindex
X-PUBLISHED-TTL:PT1H
BEGIN:VTIMEZONE
TZID:America/Los_Angeles
BEGIN:DAYLIGHT
TZOFFSETFROM:-0800
TZOFFSETTO:-0700
TZNAME:PDT
DTSTART:20220313T100000
END:DAYLIGHT
BEGIN:STANDARD
TZOFFSETFROM:-0700
TZOFFSETTO:-0800
TZNAME:PST
DTSTART:20221106T090000
END:STANDARD
BEGIN:DAYLIGHT
TZOFFSETFROM:-0800
TZOFFSETTO:-0700
TZNAME:PDT
DTSTART:20230312T100000
END:DAYLIGHT
BEGIN:STANDARD
TZOFFSETFROM:-0700
TZOFFSETTO:-0800
TZNAME:PST
DTSTART:20231105T090000
END:STANDARD
BEGIN:DAYLIGHT
TZOFFSETFROM:-0800
TZOFFSETTO:-0700
TZNAME:PDT
DTSTART:20240310T100000
END:DAYLIGHT
BEGIN:STANDARD
TZOFFSETFROM:-0700
TZOFFSETTO:-0800
TZNAME:PST
DTSTART:20241103T090000
END:STANDARD
END:VTIMEZONE
BEGIN:VEVENT
DTSTART;VALUE=DATE:20230508
DTEND;VALUE=DATE:20230513
DTSTAMP:20260423T170604
CREATED:20230321T205157Z
LAST-MODIFIED:20230421T183119Z
UID:47300-1683504000-1683935999@www.kspta.org
SUMMARY:Teacher/Staff Appreciation Week
DESCRIPTION:This is the week in which we’ll all work together to make our teachers and staff feel particularly special and appreciated.
URL:https://www.kspta.org/event/teacher-staff-appreciation-week/
LOCATION:CA
CATEGORIES:KSPTA Event
ORGANIZER;CN="KSPTA":MAILTO:info@kspta.org
END:VEVENT
BEGIN:VEVENT
DTSTART;TZID=America/Los_Angeles:20230428T180000
DTEND;TZID=America/Los_Angeles:20230428T200000
DTSTAMP:20260423T170604
CREATED:20230321T204122Z
LAST-MODIFIED:20230418T173324Z
UID:47296-1682704800-1682712000@www.kspta.org
SUMMARY:5th & 6th Grade Games Night
DESCRIPTION:The KSPTA is excited to host 5th & 6th Grade Games Night in the Kent MP Room on April 28 from 6-8pm. \n\nStudent-only event (except parent volunteers)\nFREE ADMISSION includes 1 free raffle ticket\, pizza\, snacks\, & drinks\nStudents will RSVP at lunch in the upcoming weeks\nRaffle tickets will be for sale for $3 each (max 5 tickets/ student) during lunch\n\nThis is event will have a Hawaiian theme and is one of the most memorable nights for kids at Kent – don’t miss out! \nIn addition to fun games\, contests\, and prizes\, there will be pizza\, treats\, and a raffle with some VERY exciting prizes such as Apple Airpods\, Bluetooth speakers\, gift cards\, and more. \nSchedule: \n\n6 pm – 7 pm: Carnival games\n7 pm – 8 pm: MC-led stage contests\n\nQuestions or want to volunteer to help at the event? Sign up via the SignUpGenius form or contact Erica Bonney (ericasmithbonney@gmail.com) or Whitney Blickman (wermercer@gmail.com) \n 
URL:https://www.kspta.org/event/5th-6th-grade-games-night-2023/
LOCATION:Kent Middle School\, 800 College Ave\, Kentfield\, CA\, 94904\, United States
CATEGORIES:KSPTA Event
ORGANIZER;CN="KSPTA":MAILTO:info@kspta.org
END:VEVENT
BEGIN:VEVENT
DTSTART;TZID=America/Los_Angeles:20230427T190000
DTEND;TZID=America/Los_Angeles:20230427T210000
DTSTAMP:20260423T170604
CREATED:20230329T172740Z
LAST-MODIFIED:20230420T130349Z
UID:47450-1682622000-1682629200@www.kspta.org
SUMMARY:Bloom
DESCRIPTION:[vc_row type=”in_container” full_screen_row_position=”middle” column_margin=”50px” column_direction=”default” column_direction_tablet=”default” column_direction_phone=”default” scene_position=”center” text_color=”dark” text_align=”left” row_border_radius=”none” row_border_radius_applies=”bg” overflow=”visible” overlay_strength=”0.3″ gradient_direction=”left_to_right” shape_divider_position=”bottom” bg_image_animation=”none” gradient_type=”default” shape_type=””][vc_column column_padding=”no-extra-padding” column_padding_tablet=”inherit” column_padding_phone=”inherit” column_padding_position=”all” column_element_direction_desktop=”default” column_element_spacing=”default” desktop_text_alignment=”default” tablet_text_alignment=”default” phone_text_alignment=”default” background_color_opacity=”1″ background_hover_color_opacity=”1″ column_backdrop_filter=”none” column_shadow=”none” column_border_radius=”none” column_link_target=”_self” column_position=”default” gradient_direction=”left_to_right” overlay_strength=”0.3″ width=”1/3″ tablet_width_inherit=”default” animation_type=”default” bg_image_animation=”none” border_type=”simple” column_border_width=”none” column_border_style=”solid”][image_with_animation image_url=”47709″ image_size=”large” animation_type=”entrance” animation=”None” animation_movement_type=”transform_y” hover_animation=”none” alignment=”” border_radius=”none” box_shadow=”none” image_loading=”default” max_width=”100%” max_width_mobile=”default”][/vc_column][vc_column column_padding=”no-extra-padding” column_padding_tablet=”inherit” column_padding_phone=”inherit” column_padding_position=”left-right” column_element_direction_desktop=”default” column_element_spacing=”default” desktop_text_alignment=”default” tablet_text_alignment=”default” phone_text_alignment=”default” background_color_opacity=”1″ background_hover_color_opacity=”1″ column_backdrop_filter=”none” column_shadow=”none” column_border_radius=”none” column_link_target=”_self” column_position=”default” gradient_direction=”left_to_right” overlay_strength=”0.3″ width=”2/3″ tablet_width_inherit=”default” animation_type=”default” bg_image_animation=”none” border_type=”simple” column_border_width=”none” column_border_style=”solid” column_padding_type=”default” gradient_type=”default”][vc_column_text]Join the KSPTA at International Orange for an evening of boutique shopping from local vendors\, light bites and refreshments\, mini massages\, and raffle prizes! \n\nEvent Tickets: $45\nRaffle Tickets: 5 for $20\, 10 for $40\, or 20 for $80\n\n[/vc_column_text][vc_row_inner column_margin=”20px” column_direction=”default” column_direction_tablet=”default” column_direction_phone=”default” top_padding=”30px” text_align=”left” row_position=”default” row_position_tablet=”inherit” row_position_phone=”inherit” overflow=”visible” pointer_events=”all”][vc_column_inner column_padding=”no-extra-padding” column_padding_tablet=”inherit” column_padding_phone=”inherit” column_padding_position=”all” column_element_direction_desktop=”default” column_element_spacing=”default” desktop_text_alignment=”default” tablet_text_alignment=”default” phone_text_alignment=”default” background_color_opacity=”1″ background_hover_color_opacity=”1″ column_backdrop_filter=”none” column_shadow=”none” column_border_radius=”none” column_link_target=”_self” overflow=”visible” gradient_direction=”left_to_right” overlay_strength=”0.3″ width=”1/1″ tablet_width_inherit=”default” animation_type=”default” bg_image_animation=”none” border_type=”simple” column_border_width=”none” column_border_style=”solid”][nectar_btn size=”large” open_new_tab=”true” button_style=”regular” button_color_2=”Accent-Color” solid_text_color_override=”#ffffff” icon_family=”none” text=”Buy Bloom tickets” url=”/product/bloom-2023-tickets/” margin_right=”15px”][nectar_btn size=”large” open_new_tab=”true” button_style=”regular” button_color_2=”Accent-Color” solid_text_color_override=”#ffffff” icon_family=”none” text=”Buy raffle tickets” url=”/product/bloom-2023-raffle-tickets/”][/vc_column_inner][/vc_row_inner][vc_row_inner column_margin=”default” column_direction=”default” column_direction_tablet=”default” column_direction_phone=”default” text_align=”left” row_position=”default” row_position_tablet=”inherit” row_position_phone=”inherit” overflow=”visible” pointer_events=”all”][vc_column_inner column_padding=”no-extra-padding” column_padding_tablet=”inherit” column_padding_phone=”inherit” column_padding_position=”all” column_element_direction_desktop=”default” column_element_spacing=”default” desktop_text_alignment=”default” tablet_text_alignment=”default” phone_text_alignment=”default” background_color_opacity=”1″ background_hover_color_opacity=”1″ column_backdrop_filter=”none” column_shadow=”none” column_border_radius=”none” column_link_target=”_self” overflow=”visible” gradient_direction=”left_to_right” overlay_strength=”0.3″ width=”1/1″ tablet_width_inherit=”default” animation_type=”default” bg_image_animation=”none” border_type=”simple” column_border_width=”none” column_border_style=”solid”][divider line_type=”No Line”][vc_column_text]If you can’t attend this event you can still donate to the KSPTA to help fund school programs and activities![/vc_column_text][/vc_column_inner][/vc_row_inner][vc_row_inner disable_element=”yes” column_margin=”default” column_direction=”default” column_direction_tablet=”default” column_direction_phone=”default” text_align=”left” row_position=”default” row_position_tablet=”inherit” row_position_phone=”inherit” overflow=”visible” pointer_events=”all” css=”.vc_custom_1680113118961{background-color: #d6d6d6 !important;}”][vc_column_inner column_padding=”no-extra-padding” column_padding_tablet=”inherit” column_padding_phone=”inherit” column_padding_position=”all” column_element_direction_desktop=”default” column_element_spacing=”default” desktop_text_alignment=”default” tablet_text_alignment=”default” phone_text_alignment=”default” background_color_opacity=”1″ background_hover_color_opacity=”1″ column_backdrop_filter=”none” column_shadow=”none” column_border_radius=”none” column_link_target=”_self” overflow=”visible” gradient_direction=”left_to_right” overlay_strength=”0.3″ width=”1/1″ tablet_width_inherit=”default” animation_type=”default” bg_image_animation=”none” border_type=”simple” column_border_width=”none” column_border_style=”solid”][divider line_type=”Full Width Line” line_thickness=”1″ divider_color=”default”][vc_column_text]Items available for raffle from the following vendors: \n\n\n\n\n\nHot Yoga Republic\nMighty Pilates\nio Mini Massages and Facials\nRothy’s\n\n\n\n\nDollface\nMC23\nXOXO\n\n\n\n\n\n[/vc_column_text][/vc_column_inner][/vc_row_inner][/vc_column][/vc_row]
URL:https://www.kspta.org/event/bloom-2023/
LOCATION:International Orange at Marin Country Mart\, 2421 Larkspur Landing Circle\, Larkspur\, CA\, 94939\, United States
CATEGORIES:KSPTA Event
ORGANIZER;CN="KSPTA":MAILTO:info@kspta.org
END:VEVENT
BEGIN:VEVENT
DTSTART;VALUE=DATE:20230425
DTEND;VALUE=DATE:20230426
DTSTAMP:20260423T170604
CREATED:20230323T211539Z
LAST-MODIFIED:20230323T211914Z
UID:47354-1682380800-1682467199@www.kspta.org
SUMMARY:Bacich Physics Day
DESCRIPTION:Lawrence Hall of Science will visit for the day and students in 1st through 4th grade will have the opportunity to learn and experiment with physics activities and experiments!
URL:https://www.kspta.org/event/bacich-physics-day/
LOCATION:Bacich Elementary School\, 699 Sir Francis Drake Blvd\, Kentfield\, CA\, 94904\, United States
CATEGORIES:KSPTA Event
ORGANIZER;CN="KSPTA":MAILTO:info@kspta.org
END:VEVENT
END:VCALENDAR