BEGIN:VCALENDAR
VERSION:2.0
PRODID:-//Kentfield Schools PTA - ECPv6.15.20//NONSGML v1.0//EN
CALSCALE:GREGORIAN
METHOD:PUBLISH
X-WR-CALNAME:Kentfield Schools PTA
X-ORIGINAL-URL:https://www.kspta.org
X-WR-CALDESC:Events for Kentfield Schools PTA
REFRESH-INTERVAL;VALUE=DURATION:PT1H
X-Robots-Tag:noindex
X-PUBLISHED-TTL:PT1H
BEGIN:VTIMEZONE
TZID:America/Los_Angeles
BEGIN:DAYLIGHT
TZOFFSETFROM:-0800
TZOFFSETTO:-0700
TZNAME:PDT
DTSTART:20220313T100000
END:DAYLIGHT
BEGIN:STANDARD
TZOFFSETFROM:-0700
TZOFFSETTO:-0800
TZNAME:PST
DTSTART:20221106T090000
END:STANDARD
BEGIN:DAYLIGHT
TZOFFSETFROM:-0800
TZOFFSETTO:-0700
TZNAME:PDT
DTSTART:20230312T100000
END:DAYLIGHT
BEGIN:STANDARD
TZOFFSETFROM:-0700
TZOFFSETTO:-0800
TZNAME:PST
DTSTART:20231105T090000
END:STANDARD
BEGIN:DAYLIGHT
TZOFFSETFROM:-0800
TZOFFSETTO:-0700
TZNAME:PDT
DTSTART:20240310T100000
END:DAYLIGHT
BEGIN:STANDARD
TZOFFSETFROM:-0700
TZOFFSETTO:-0800
TZNAME:PST
DTSTART:20241103T090000
END:STANDARD
BEGIN:DAYLIGHT
TZOFFSETFROM:-0800
TZOFFSETTO:-0700
TZNAME:PDT
DTSTART:20250309T100000
END:DAYLIGHT
BEGIN:STANDARD
TZOFFSETFROM:-0700
TZOFFSETTO:-0800
TZNAME:PST
DTSTART:20251102T090000
END:STANDARD
BEGIN:DAYLIGHT
TZOFFSETFROM:-0800
TZOFFSETTO:-0700
TZNAME:PDT
DTSTART:20260308T100000
END:DAYLIGHT
BEGIN:STANDARD
TZOFFSETFROM:-0700
TZOFFSETTO:-0800
TZNAME:PST
DTSTART:20261101T090000
END:STANDARD
BEGIN:DAYLIGHT
TZOFFSETFROM:-0800
TZOFFSETTO:-0700
TZNAME:PDT
DTSTART:20270314T100000
END:DAYLIGHT
BEGIN:STANDARD
TZOFFSETFROM:-0700
TZOFFSETTO:-0800
TZNAME:PST
DTSTART:20271107T090000
END:STANDARD
END:VTIMEZONE
BEGIN:VEVENT
DTSTART;TZID=America/Los_Angeles:20260302T083000
DTEND;TZID=America/Los_Angeles:20260302T103000
DTSTAMP:20260423T142949
CREATED:20260225T222001Z
LAST-MODIFIED:20260225T230018Z
UID:52330-1772440200-1772447400@www.kspta.org
SUMMARY:KSPTA Meeting + Bacich Principal's Chat (Mar. 2)
DESCRIPTION:
URL:https://www.kspta.org/event/meeting-mar-2/
LOCATION:Bacich Elementary School\, 699 Sir Francis Drake Blvd\, Kentfield\, CA\, 94904\, United States
CATEGORIES:Event,KSPTA Event,KSPTA General Association Meeting,Meeting
ATTACH;FMTTYPE=image/bmp:https://www.kspta.org/wp-content/uploads/2016/08/KSDPTA_logoblack.bmp
ORGANIZER;CN="KSPTA":MAILTO:info@kspta.org
END:VEVENT
BEGIN:VEVENT
DTSTART;TZID=America/Los_Angeles:20251017T084500
DTEND;TZID=America/Los_Angeles:20251017T101500
DTSTAMP:20260423T142949
CREATED:20251011T010131Z
LAST-MODIFIED:20251011T163854Z
UID:52228-1760690700-1760696100@www.kspta.org
SUMMARY:KSPTA Meeting + Kent Principal Chat (Oct. 17)
DESCRIPTION:KSPTA General Association Meeting + Kent Principal Chat with Mr. Althouse and kidsIRL Friday\, Oct. 17\, 8:45 a.m.\, Kent Library.
URL:https://www.kspta.org/event/2025-10-17/
LOCATION:Kent Middle School\, 800 College Ave\, Kentfield\, CA\, 94904\, United States
CATEGORIES:KSPTA General Association Meeting
ORGANIZER;CN="KSPTA":MAILTO:info@kspta.org
END:VEVENT
BEGIN:VEVENT
DTSTART;TZID=America/Los_Angeles:20250414T083000
DTEND;TZID=America/Los_Angeles:20250414T100000
DTSTAMP:20260423T142949
CREATED:20241028T190200Z
LAST-MODIFIED:20250307T130049Z
UID:51455-1744619400-1744624800@www.kspta.org
SUMMARY:KSPTA General Association Meeting [DATE CHANGED]
DESCRIPTION:
URL:https://www.kspta.org/event/kspta-general-association-meeting-5/
LOCATION:Bacich Elementary School\, 699 Sir Francis Drake Blvd\, Kentfield\, CA\, 94904\, United States
CATEGORIES:KSPTA General Association Meeting
ORGANIZER;CN="KSPTA":MAILTO:info@kspta.org
END:VEVENT
BEGIN:VEVENT
DTSTART;TZID=America/Los_Angeles:20250307T083000
DTEND;TZID=America/Los_Angeles:20250307T100000
DTSTAMP:20260423T142949
CREATED:20241028T190042Z
LAST-MODIFIED:20250123T175626Z
UID:51453-1741336200-1741341600@www.kspta.org
SUMMARY:KSPTA General Association Meeting [DATE CHANGED]
DESCRIPTION:
URL:https://www.kspta.org/event/kspta-general-association-meeting-4/
LOCATION:Kent Middle School\, 800 College Ave\, Kentfield\, CA\, 94904\, United States
CATEGORIES:KSPTA General Association Meeting
ORGANIZER;CN="KSPTA":MAILTO:info@kspta.org
END:VEVENT
BEGIN:VEVENT
DTSTART;TZID=America/Los_Angeles:20250117T083000
DTEND;TZID=America/Los_Angeles:20250117T100000
DTSTAMP:20260423T142949
CREATED:20241028T190016Z
LAST-MODIFIED:20250123T175831Z
UID:51451-1737102600-1737108000@www.kspta.org
SUMMARY:KSPTA General Association Meeting
DESCRIPTION:
URL:https://www.kspta.org/event/kspta-general-association-meeting-3/
LOCATION:Kent Middle School\, 800 College Ave\, Kentfield\, CA\, 94904\, United States
CATEGORIES:KSPTA General Association Meeting
ORGANIZER;CN="KSPTA":MAILTO:info@kspta.org
END:VEVENT
BEGIN:VEVENT
DTSTART;TZID=America/Los_Angeles:20241213T083000
DTEND;TZID=America/Los_Angeles:20241213T100000
DTSTAMP:20260423T142949
CREATED:20241028T185856Z
LAST-MODIFIED:20241123T155838Z
UID:51449-1734078600-1734084000@www.kspta.org
SUMMARY:KSPTA General Association Meeting [CANCELLED]
DESCRIPTION:
URL:https://www.kspta.org/event/kspta-general-association-meeting-2/
LOCATION:Bacich Elementary School\, 699 Sir Francis Drake Blvd\, Kentfield\, CA\, 94904\, United States
CATEGORIES:KSPTA General Association Meeting
ORGANIZER;CN="KSPTA":MAILTO:info@kspta.org
END:VEVENT
BEGIN:VEVENT
DTSTART;TZID=America/Los_Angeles:20241108T083000
DTEND;TZID=America/Los_Angeles:20241108T100000
DTSTAMP:20260423T142949
CREATED:20241028T185703Z
LAST-MODIFIED:20241028T185924Z
UID:51446-1731054600-1731060000@www.kspta.org
SUMMARY:KSPTA General Association Meeting
DESCRIPTION:
URL:https://www.kspta.org/event/kspta-general-association-meeting/
LOCATION:Bacich Elementary School\, 699 Sir Francis Drake Blvd\, Kentfield\, CA\, 94904\, United States
CATEGORIES:KSPTA General Association Meeting
ORGANIZER;CN="KSPTA":MAILTO:info@kspta.org
END:VEVENT
BEGIN:VEVENT
DTSTART;TZID=America/Los_Angeles:20240503T083000
DTEND;TZID=America/Los_Angeles:20240503T100000
DTSTAMP:20260423T142949
CREATED:20230620T234509Z
LAST-MODIFIED:20231007T135211Z
UID:48928-1714725000-1714730400@www.kspta.org
SUMMARY:KSPTA General Meeting
DESCRIPTION:Join the KSPTA to discuss important topics that affect our school community. This is a great opportunity to get relevant updates and connect with other parents. Everyone is welcome!
URL:https://www.kspta.org/event/kspta-general-meeting-2024-04/
LOCATION:Kent Middle School\, 800 College Ave\, Kentfield\, CA\, 94904\, United States
CATEGORIES:KSPTA General Association Meeting
ORGANIZER;CN="KSPTA":MAILTO:info@kspta.org
END:VEVENT
BEGIN:VEVENT
DTSTART;TZID=America/Los_Angeles:20240329T083000
DTEND;TZID=America/Los_Angeles:20240329T100000
DTSTAMP:20260423T142949
CREATED:20230620T234403Z
LAST-MODIFIED:20231007T135042Z
UID:48927-1711701000-1711706400@www.kspta.org
SUMMARY:KSPTA General Meeting
DESCRIPTION:Join the KSPTA to discuss important topics that affect our school community. This is a great opportunity to get relevant updates and connect with other parents. Everyone is welcome!
URL:https://www.kspta.org/event/kspta-general-meeting-2024-03-22/
LOCATION:Bacich Elementary School\, 699 Sir Francis Drake Blvd\, Kentfield\, CA\, 94904\, United States
CATEGORIES:KSPTA General Association Meeting
ORGANIZER;CN="KSPTA":MAILTO:info@kspta.org
END:VEVENT
BEGIN:VEVENT
DTSTART;TZID=America/Los_Angeles:20240301T083000
DTEND;TZID=America/Los_Angeles:20240301T100000
DTSTAMP:20260423T142949
CREATED:20230620T234314Z
LAST-MODIFIED:20231007T135157Z
UID:48926-1709281800-1709287200@www.kspta.org
SUMMARY:KSPTA General Meeting
DESCRIPTION:Join the KSPTA to discuss important topics that affect our school community. This is a great opportunity to get relevant updates and connect with other parents. Everyone is welcome!
URL:https://www.kspta.org/event/kspta-general-meeting-2024-03-01/
LOCATION:Kent Middle School\, 800 College Ave\, Kentfield\, CA\, 94904\, United States
CATEGORIES:KSPTA General Association Meeting
ORGANIZER;CN="KSPTA":MAILTO:info@kspta.org
END:VEVENT
BEGIN:VEVENT
DTSTART;TZID=America/Los_Angeles:20240119T083000
DTEND;TZID=America/Los_Angeles:20240119T100000
DTSTAMP:20260423T142949
CREATED:20230620T233952Z
LAST-MODIFIED:20231007T135055Z
UID:48925-1705653000-1705658400@www.kspta.org
SUMMARY:KSPTA General Meeting
DESCRIPTION:Join the KSPTA to discuss important topics that affect our school community. This is a great opportunity to get relevant updates and connect with other parents. Everyone is welcome!
URL:https://www.kspta.org/event/kspta-general-meeting-2024-01/
LOCATION:Bacich Elementary School\, 699 Sir Francis Drake Blvd\, Kentfield\, CA\, 94904\, United States
CATEGORIES:KSPTA General Association Meeting
ORGANIZER;CN="KSPTA":MAILTO:info@kspta.org
END:VEVENT
BEGIN:VEVENT
DTSTART;TZID=America/Los_Angeles:20231208T083000
DTEND;TZID=America/Los_Angeles:20231208T100000
DTSTAMP:20260423T142949
CREATED:20230620T233904Z
LAST-MODIFIED:20231007T135140Z
UID:48924-1702024200-1702029600@www.kspta.org
SUMMARY:KSPTA General Meeting (TBD)
DESCRIPTION:Join the KSPTA to discuss important topics that affect our school community. This is a great opportunity to get relevant updates and connect with other parents. Everyone is welcome! \nNote that it’s possible this particular general meeting will be cancelled; we will post updates here as we have them.
URL:https://www.kspta.org/event/kspta-general-meeting-2023-12/
LOCATION:Kent Middle School\, 800 College Ave\, Kentfield\, CA\, 94904\, United States
CATEGORIES:KSPTA General Association Meeting
ORGANIZER;CN="KSPTA":MAILTO:info@kspta.org
END:VEVENT
BEGIN:VEVENT
DTSTART;TZID=America/Los_Angeles:20231103T083000
DTEND;TZID=America/Los_Angeles:20231103T100000
DTSTAMP:20260423T142949
CREATED:20230620T233743Z
LAST-MODIFIED:20231007T135124Z
UID:48923-1699000200-1699005600@www.kspta.org
SUMMARY:KSPTA General Meeting
DESCRIPTION:Join the KSPTA to discuss important topics that affect our school community. This is a great opportunity to get relevant updates and connect with other parents. Everyone is welcome!
URL:https://www.kspta.org/event/kspta-general-meeting-2023-11/
LOCATION:Bacich Elementary School\, 699 Sir Francis Drake Blvd\, Kentfield\, CA\, 94904\, United States
CATEGORIES:KSPTA General Association Meeting
ORGANIZER;CN="KSPTA":MAILTO:info@kspta.org
END:VEVENT
BEGIN:VEVENT
DTSTART;TZID=America/Los_Angeles:20231006T083000
DTEND;TZID=America/Los_Angeles:20231006T100000
DTSTAMP:20260423T142949
CREATED:20230620T233513Z
LAST-MODIFIED:20230620T233513Z
UID:48921-1696581000-1696586400@www.kspta.org
SUMMARY:KSPTA General Meeting
DESCRIPTION:Join the KSPTA for a cup of coffee while discussing important topics that affect our school community. This is a great opportunity to get relevant updates and connect with other parents. Everyone is welcome!
URL:https://www.kspta.org/event/kspta-general-meeting-2023-10/
LOCATION:Kent Middle School\, 800 College Ave\, Kentfield\, CA\, 94904\, United States
CATEGORIES:KSPTA General Association Meeting
ORGANIZER;CN="KSPTA":MAILTO:info@kspta.org
END:VEVENT
BEGIN:VEVENT
DTSTART;TZID=America/Los_Angeles:20230908T083000
DTEND;TZID=America/Los_Angeles:20230908T100000
DTSTAMP:20260423T142949
CREATED:20230620T150854Z
LAST-MODIFIED:20230903T231536Z
UID:48915-1694161800-1694167200@www.kspta.org
SUMMARY:KSPTA General Meeting
DESCRIPTION:The KSPTA wants to welcome everyone to the 2023-2024 school year. It has been thrilling to see so many smiley faces back on both Bacich and Kent campuses. \nAs parents\, we have been flooded with new information\, routines and emotions – your own and your kid’s. The KSPTA wants to be there for you as a resource to help. \nPlease join us for coffee at our first General Meeting on September 8\, 8:30-10 am in the Bacich IDEA Studio. Coffee will be from 8:30-8:45 am. Then we will give a brief overview about what the KSPTA does and answer any question you have about us and the district. If you want to learn more about what the KSPTA does\, this is the meeting for you. These meetings are casual\, informative about the Kentfield School District and NO pressure to volunteer or join. We hope to see you there!
URL:https://www.kspta.org/event/kspta-general-meeting-2023-09/
LOCATION:Bacich Elementary School\, 699 Sir Francis Drake Blvd\, Kentfield\, CA\, 94904\, United States
CATEGORIES:KSPTA General Association Meeting
ORGANIZER;CN="KSPTA":MAILTO:info@kspta.org
END:VEVENT
BEGIN:VEVENT
DTSTART;TZID=America/Los_Angeles:20230512T083000
DTEND;TZID=America/Los_Angeles:20230512T103000
DTSTAMP:20260423T142949
CREATED:20230321T201159Z
LAST-MODIFIED:20230505T031036Z
UID:47291-1683880200-1683887400@www.kspta.org
SUMMARY:KSPTA General Meeting
DESCRIPTION:Join the KSPTA for a cup of coffee in the Kent Library while discussing important topics that affect our school community. There will be a coffee social during the first 10 minutes. \nZero Waste Schools Representative Kelsey Austin will be presenting (many of you may have met her or seen her on Earth Day at Bacich!). We will also have Wait Until 8th Grade Level Champions there ready to answer any questions and to help you learn more. \nWe hope you can join! Everyone is welcome!
URL:https://www.kspta.org/event/kspta-general-meeting-2023-05/
LOCATION:Kent Middle School\, 800 College Ave\, Kentfield\, CA\, 94904\, United States
CATEGORIES:KSPTA General Association Meeting
ORGANIZER;CN="KSPTA":MAILTO:info@kspta.org
END:VEVENT
END:VCALENDAR