BEGIN:VCALENDAR
VERSION:2.0
PRODID:-//Kentfield Schools PTA - ECPv6.15.20//NONSGML v1.0//EN
CALSCALE:GREGORIAN
METHOD:PUBLISH
X-ORIGINAL-URL:https://www.kspta.org
X-WR-CALDESC:Events for Kentfield Schools PTA
REFRESH-INTERVAL;VALUE=DURATION:PT1H
X-Robots-Tag:noindex
X-PUBLISHED-TTL:PT1H
BEGIN:VTIMEZONE
TZID:America/Los_Angeles
BEGIN:DAYLIGHT
TZOFFSETFROM:-0800
TZOFFSETTO:-0700
TZNAME:PDT
DTSTART:20250309T100000
END:DAYLIGHT
BEGIN:STANDARD
TZOFFSETFROM:-0700
TZOFFSETTO:-0800
TZNAME:PST
DTSTART:20251102T090000
END:STANDARD
BEGIN:DAYLIGHT
TZOFFSETFROM:-0800
TZOFFSETTO:-0700
TZNAME:PDT
DTSTART:20260308T100000
END:DAYLIGHT
BEGIN:STANDARD
TZOFFSETFROM:-0700
TZOFFSETTO:-0800
TZNAME:PST
DTSTART:20261101T090000
END:STANDARD
BEGIN:DAYLIGHT
TZOFFSETFROM:-0800
TZOFFSETTO:-0700
TZNAME:PDT
DTSTART:20270314T100000
END:DAYLIGHT
BEGIN:STANDARD
TZOFFSETFROM:-0700
TZOFFSETTO:-0800
TZNAME:PST
DTSTART:20271107T090000
END:STANDARD
END:VTIMEZONE
BEGIN:VEVENT
DTSTART;VALUE=DATE:20260227
DTEND;VALUE=DATE:20260228
DTSTAMP:20260423T142927
CREATED:20251205T141218Z
LAST-MODIFIED:20251205T141251Z
UID:52317-1772150400-1772236799@www.kspta.org
SUMMARY:Bacich Talent Show (Feb. 27)
DESCRIPTION:The 7th annual Bacich Talent Show will be Friday February 27\, 2026!  The talent show is open to thirty 3rd and 4th grader acts.  The sign up period is from Monday 12/8- Monday 12/15 or once 30 acts have enrolled.  Information and registration is linked here
URL:https://www.kspta.org/event/bacich-talent-show-feb-27/
LOCATION:Bacich Elementary School\, 699 Sir Francis Drake Blvd\, Kentfield\, CA\, 94904\, United States
CATEGORIES:Event,KSPTA Event
ATTACH;FMTTYPE=image/jpeg:https://www.kspta.org/wp-content/uploads/2025/12/BTS-WEB-Flyer-2026.avif
ORGANIZER;CN="KSPTA":MAILTO:info@kspta.org
END:VEVENT
BEGIN:VEVENT
DTSTART;VALUE=DATE:20260302
DTEND;VALUE=DATE:20260307
DTSTAMP:20260423T142927
CREATED:20260210T040413Z
LAST-MODIFIED:20260210T040413Z
UID:52326-1772409600-1772841599@www.kspta.org
SUMMARY:Readathon Activity Week (March 2-6)
DESCRIPTION:Mark your calendars for the week of March 2-March 6: the 5th Annual KSPTA Readathon is almost here! The KSPTA Readathon is KSPTA’s biggest fundraiser of the year. 100% of proceeds support our school community programs.\n\nFebruary 5–6: Students will bring home a Readathon information packet\n\nFebruary 12: Start of Readathon Pledges and Reading\nYou’ll receive an email from 99 Pledges with your student’s customizable fundraising webpage. More information about How It Works can be found on the Readathon website.\n\nMarch 2–6: Readathon Activities Week Kent Highlights\n\nThe Edible Book contest is back\nBook trivia\, Readathon-theme Kahoot\, Bookmark contest and more!\nKent Falcon House that has the highest rate of pledge participation will receive donuts\n\n\nThe KSPTA is looking for Read-a-thon volunteers at both schools. As well as much-needed help to support the Scholastic Book Fair at Kent the week of February 23.\n\nKent Readathon Sign-up Genius.\nBacich Readathon Sign-up Genius.\nKent Scholastic Book Fair Sign-up Genius.\n\nPlease email readathon@kspta.org to learn about volunteer opportunities.
URL:https://www.kspta.org/event/readathon-activity-week-march-2-6/
LOCATION:CA
CATEGORIES:Event,KSPTA Event
ATTACH;FMTTYPE=image/jpeg:https://www.kspta.org/wp-content/uploads/2022/10/Readathon.jpg
END:VEVENT
BEGIN:VEVENT
DTSTART;TZID=America/Los_Angeles:20260302T083000
DTEND;TZID=America/Los_Angeles:20260302T103000
DTSTAMP:20260423T142927
CREATED:20260225T222001Z
LAST-MODIFIED:20260225T230018Z
UID:52330-1772440200-1772447400@www.kspta.org
SUMMARY:KSPTA Meeting + Bacich Principal's Chat (Mar. 2)
DESCRIPTION:
URL:https://www.kspta.org/event/meeting-mar-2/
LOCATION:Bacich Elementary School\, 699 Sir Francis Drake Blvd\, Kentfield\, CA\, 94904\, United States
CATEGORIES:Event,KSPTA Event,KSPTA General Association Meeting,Meeting
ATTACH;FMTTYPE=image/bmp:https://www.kspta.org/wp-content/uploads/2016/08/KSDPTA_logoblack.bmp
ORGANIZER;CN="KSPTA":MAILTO:info@kspta.org
END:VEVENT
BEGIN:VEVENT
DTSTART;VALUE=DATE:20260415
DTEND;VALUE=DATE:20260523
DTSTAMP:20260423T142927
CREATED:20260420T000646Z
LAST-MODIFIED:20260420T005846Z
UID:52351-1776211200-1779494399@www.kspta.org
SUMMARY:Bacich Yearbooks Now Available
DESCRIPTION:It’s time to order your Bacich yearbook for the 2025-2026 school year! The deadline to order is Friday May 22nd.\n\nTo learn more\, review the flyer to the right or review the Spanish flyer.\n\nLINK TO BUY:\nhttps://yearbookordercenter.com/job/30417\n\n 
URL:https://www.kspta.org/event/bacich-yearbooks-now-available/
LOCATION:Bacich Elementary School\, 699 Sir Francis Drake Blvd\, Kentfield\, CA\, 94904\, United States
CATEGORIES:Event,KSPTA Event
ATTACH;FMTTYPE=image/jpeg:https://www.kspta.org/wp-content/uploads/2026/04/Bacich-Yearbook-2025-26-English.avif
ORGANIZER;CN="KSPTA":MAILTO:info@kspta.org
END:VEVENT
BEGIN:VEVENT
DTSTART;VALUE=DATE:20260417
DTEND;VALUE=DATE:20260418
DTSTAMP:20260423T142927
CREATED:20260406T173956Z
LAST-MODIFIED:20260406T173956Z
UID:52348-1776384000-1776470399@www.kspta.org
SUMMARY:Bacich Earth Day (April 17)
DESCRIPTION:Bacich Students will celebrate Earth Day on Friday\, April 17th while Kent Students will celebrate Earth Day on Tuesday\, April 21st.\n\nParent volunteers are needed to pull off this annual celebration. The event will include many fun activities for students to learn how our actions impact the Earth\, and ways in which we can all protect our environment.\n\nDuring this time we will have fun booths where students will freely roam and participate in an activity\, art project\, or game to learn about climate control\, recycling\, and other environmental considerations. We will also have visiting booths by Zero Waste Schools Marin\, Safe Routes and the Marin Municipal Water District! \nBacich is also participating in a plastic film collection drive sponsored by Ridwell—when you volunteer at Earth Day or send your kids to school April 17-22\, please bring hard-to-recycle plastic film (ziplock bags\, grocery bags\, bubble wrap). \nPlease sign up to help and join your children for celebration of Earth Day 2026! \n\nBACICH:\nFRIDAY\, APRIL 17th\nSIGN UP TO VOLUNTEER AT BACICH HERE \nKENT:\nTUESDAY\, April 21st\nSIGN UP TO VOLUNTEER AT KENT HERE
URL:https://www.kspta.org/event/bacich-earth-day-2026/
LOCATION:Bacich Elementary School\, 699 Sir Francis Drake Blvd\, Kentfield\, CA\, 94904\, United States
CATEGORIES:Event,KSPTA Event
ATTACH;FMTTYPE=image/png:https://www.kspta.org/wp-content/uploads/2026/04/unnamed-7.avif
ORGANIZER;CN="KSPTA":MAILTO:info@kspta.org
END:VEVENT
BEGIN:VEVENT
DTSTART;TZID=America/Los_Angeles:20260417T180000
DTEND;TZID=America/Los_Angeles:20260417T200000
DTSTAMP:20260423T142927
CREATED:20260313T130533Z
LAST-MODIFIED:20260313T130533Z
UID:52335-1776448800-1776456000@www.kspta.org
SUMMARY:5th & 6th Grade Games Night (Apr. 17)
DESCRIPTION:Save the date for this year’s 5th & 6th Grade Game Night\, which will be 80s themed! The event will take place in the Kent MP room on Friday\, April 17th from 6–8 PM. \nThis will be a drop-off event with food\, games\, and prizes for the kids. More details will be shared soon in the PTA newsletter\, but we wanted to get the word out early so everyone can mark their calendars. \nAs always\, we rely on the help of parents to make this a fun night for our kiddos\, and we’ll be sending out a SignUpGenius soon for anyone who’d like to volunteer.
URL:https://www.kspta.org/event/5th-6th-grade-games-night-apr-17/
LOCATION:Kent Middle School\, 800 College Ave\, Kentfield\, CA\, 94904\, United States
CATEGORIES:Event,KSPTA Event
ATTACH;FMTTYPE=image/png:https://www.kspta.org/wp-content/uploads/2026/03/Games-Night.avif
ORGANIZER;CN="KSPTA":MAILTO:info@kspta.org
END:VEVENT
BEGIN:VEVENT
DTSTART;VALUE=DATE:20260421
DTEND;VALUE=DATE:20260422
DTSTAMP:20260423T142927
CREATED:20260406T173656Z
LAST-MODIFIED:20260406T173747Z
UID:52344-1776729600-1776815999@www.kspta.org
SUMMARY:Kent Earth Day (April 21)
DESCRIPTION:Bacich Students will celebrate Earth Day on Friday\, April 17th while Kent Students will celebrate Earth Day on Tuesday\, April 21st.\n\nParent volunteers are needed to pull off this annual celebration. The event will include many fun activities for students to learn how our actions impact the Earth\, and ways in which we can all protect our environment.\n\nDuring this time we will have fun booths where students will freely roam and participate in an activity\, art project\, or game to learn about climate control\, recycling\, and other environmental considerations. We will also have visiting booths by Zero Waste Schools Marin\, Safe Routes and the Marin Municipal Water District! \nBacich is also participating in a plastic film collection drive sponsored by Ridwell—when you volunteer at Earth Day or send your kids to school April 17-22\, please bring hard-to-recycle plastic film (ziplock bags\, grocery bags\, bubble wrap). \nPlease sign up to help and join your children for celebration of Earth Day 2026! \n\nBACICH:\nFRIDAY\, APRIL 17th\nSIGN UP TO VOLUNTEER AT BACICH HERE \nKENT:\nTUESDAY\, April 21st\nSIGN UP TO VOLUNTEER AT KENT HERE
URL:https://www.kspta.org/event/kent-earth-day-april-21/
LOCATION:Kent Middle School\, 800 College Ave\, Kentfield\, CA\, 94904\, United States
CATEGORIES:Event,KSPTA Event
ATTACH;FMTTYPE=image/png:https://www.kspta.org/wp-content/uploads/2026/04/unnamed-6.avif
ORGANIZER;CN="KSPTA":MAILTO:info@kspta.org
END:VEVENT
BEGIN:VEVENT
DTSTART;TZID=America/Los_Angeles:20260427T183000
DTEND;TZID=America/Los_Angeles:20260427T194500
DTSTAMP:20260423T142927
CREATED:20260420T005017Z
LAST-MODIFIED:20260420T005932Z
UID:52358-1777314600-1777319100@www.kspta.org
SUMMARY:ParentEd: AI K-8th (April 27)
DESCRIPTION:Parent Ed – Artificial Intelligence K-8th \nThis session will help you understand what’s changing\, where AI is showing up\, and how to guide your kids in ways that build curiosity\, confidence\, and healthy boundaries across the elementary and middle school years. \nMonday\, April 27th 6:30-7:45PM\nKent Middle School Library\nZoom Link: https://us05web.zoom.us/j/83757433257?pwd=Funzf1YoyH5k3TdoOfV0ltjq80IZbg.1 \nTo learn more\, review the flyer to the right or review this Spanish flyer.
URL:https://www.kspta.org/event/parented-raising-curious-kids-in-an-ai-world/
LOCATION:Kent Middle School\, 800 College Ave\, Kentfield\, CA\, 94904\, United States
CATEGORIES:Event,KSPTA Event
ATTACH;FMTTYPE=image/png:https://www.kspta.org/wp-content/uploads/2026/04/AI-English.avif
ORGANIZER;CN="KSPTA":MAILTO:info@kspta.org
END:VEVENT
END:VCALENDAR