BEGIN:VCALENDAR
VERSION:2.0
PRODID:-//Kentfield Schools PTA - ECPv6.15.20//NONSGML v1.0//EN
CALSCALE:GREGORIAN
METHOD:PUBLISH
X-WR-CALNAME:Kentfield Schools PTA
X-ORIGINAL-URL:https://www.kspta.org
X-WR-CALDESC:Events for Kentfield Schools PTA
REFRESH-INTERVAL;VALUE=DURATION:PT1H
X-Robots-Tag:noindex
X-PUBLISHED-TTL:PT1H
BEGIN:VTIMEZONE
TZID:America/Los_Angeles
BEGIN:DAYLIGHT
TZOFFSETFROM:-0800
TZOFFSETTO:-0700
TZNAME:PDT
DTSTART:20220313T100000
END:DAYLIGHT
BEGIN:STANDARD
TZOFFSETFROM:-0700
TZOFFSETTO:-0800
TZNAME:PST
DTSTART:20221106T090000
END:STANDARD
BEGIN:DAYLIGHT
TZOFFSETFROM:-0800
TZOFFSETTO:-0700
TZNAME:PDT
DTSTART:20230312T100000
END:DAYLIGHT
BEGIN:STANDARD
TZOFFSETFROM:-0700
TZOFFSETTO:-0800
TZNAME:PST
DTSTART:20231105T090000
END:STANDARD
BEGIN:DAYLIGHT
TZOFFSETFROM:-0800
TZOFFSETTO:-0700
TZNAME:PDT
DTSTART:20240310T100000
END:DAYLIGHT
BEGIN:STANDARD
TZOFFSETFROM:-0700
TZOFFSETTO:-0800
TZNAME:PST
DTSTART:20241103T090000
END:STANDARD
BEGIN:DAYLIGHT
TZOFFSETFROM:-0800
TZOFFSETTO:-0700
TZNAME:PDT
DTSTART:20250309T100000
END:DAYLIGHT
BEGIN:STANDARD
TZOFFSETFROM:-0700
TZOFFSETTO:-0800
TZNAME:PST
DTSTART:20251102T090000
END:STANDARD
BEGIN:DAYLIGHT
TZOFFSETFROM:-0800
TZOFFSETTO:-0700
TZNAME:PDT
DTSTART:20260308T100000
END:DAYLIGHT
BEGIN:STANDARD
TZOFFSETFROM:-0700
TZOFFSETTO:-0800
TZNAME:PST
DTSTART:20261101T090000
END:STANDARD
END:VTIMEZONE
BEGIN:VEVENT
DTSTART;TZID=America/Los_Angeles:20250424T180000
DTEND;TZID=America/Los_Angeles:20250424T193000
DTSTAMP:20260423T155055
CREATED:20250313T132748Z
LAST-MODIFIED:20250313T141144Z
UID:51969-1745517600-1745523000@www.kspta.org
SUMMARY:Parent Education Event (April 24)
DESCRIPTION:Join us for a Parent Education Event on Thursday\, April 24\, 2025 from 6:00 – 7:30 pm in the Kent Library! Please RSVP in ParentSquare when you receive stand-alone ParentSquare communication about this event so that we can keep track of the number of attendees.\n\n\n\nOur guest speaker is Dr. Jeremy Peterman\, a licensed clinical psychologist who specializes in treating anxiety\, OCD\, and related issues in children\, adolescents\, and adults.\n\nTogether we will learn about:\n\nthe common symptoms of anxiety\ntools to support children with anxiety \nways to prevent levels of anxiety from escalating\nways to manage caregiver anxiety\nand signs to know when to seek professional help\n\n\nFor more information on Dr. Jeremy Peterman and his practice\, please visit his website here.
URL:https://www.kspta.org/event/parent-ed-event-april-24/
LOCATION:Kent Middle School\, 800 College Ave\, Kentfield\, CA\, 94904\, United States
CATEGORIES:Event,KSPTA Event
ATTACH;FMTTYPE=image/png:https://www.kspta.org/wp-content/uploads/2025/03/Screenshot-2025-03-13-at-6.45.57-AM-1-png.webp
ORGANIZER;CN="KSPTA":MAILTO:info@kspta.org
END:VEVENT
BEGIN:VEVENT
DTSTART;VALUE=DATE:20250418
DTEND;VALUE=DATE:20250419
DTSTAMP:20260423T155055
CREATED:20250320T195826Z
LAST-MODIFIED:20250320T195939Z
UID:51988-1744934400-1745020799@www.kspta.org
SUMMARY:Kent Earth Day (April 22)
DESCRIPTION:At Bacich on Friday April 18th and Kent on Tuesday April 22nd\, students will celebrate Earth Day with the annual KSPTA hosted Earth Day Festivals! There will be stations where all students will have the opportunity to participate in fun Earth Day themed activities\, games and art projects to learn about climate control\, recycling\, and other environmental considerations. Zero Waste Marin\, Marin Municipal Water District\, and Safe Routes will also be there. Come join us for the event of the year! \nWe need parent volunteers to help make this a success. Please sign up to volunteer and join your children for a celebration of Earth Day 2025! \nBACICH (Friday 4/18) Earth Day Festival VOLUNTEER SIGN UP LINK \nKENT (Tuesday 4/22) Earth Day Festival VOLUNTEER SIGN UP LINK
URL:https://www.kspta.org/event/kent-earth-day-2025/
LOCATION:Kent Middle School\, 800 College Ave\, Kentfield\, CA\, 94904\, United States
CATEGORIES:Event,KSPTA Event
ATTACH;FMTTYPE=image/png:https://www.kspta.org/wp-content/uploads/2025/03/Earth-Day-png.webp
ORGANIZER;CN="KSPTA":MAILTO:info@kspta.org
END:VEVENT
BEGIN:VEVENT
DTSTART;VALUE=DATE:20250418
DTEND;VALUE=DATE:20250419
DTSTAMP:20260423T155055
CREATED:20250320T195447Z
LAST-MODIFIED:20250320T195926Z
UID:51985-1744934400-1745020799@www.kspta.org
SUMMARY:Bacich Earth Day (April 18)
DESCRIPTION:At Bacich on Friday April 18th and Kent on Tuesday April 22nd\, students will celebrate Earth Day with the annual KSPTA hosted Earth Day Festivals! There will be stations where all students will have the opportunity to participate in fun Earth Day themed activities\, games and art projects to learn about climate control\, recycling\, and other environmental considerations. Zero Waste Marin\, Marin Municipal Water District\, and Safe Routes will also be there. Come join us for the event of the year! \nWe need parent volunteers to help make this a success. Please sign up to volunteer and join your children for a celebration of Earth Day 2025! \nBACICH (Friday 4/18) Earth Day Festival VOLUNTEER SIGN UP LINK \nKENT (Tuesday 4/22) Earth Day Festival VOLUNTEER SIGN UP LINK
URL:https://www.kspta.org/event/bacich-earth-day-april-18/
LOCATION:Bacich Elementary School\, 699 Sir Francis Drake Blvd\, Kentfield\, CA\, 94904\, United States
CATEGORIES:Event,KSPTA Event
ATTACH;FMTTYPE=image/png:https://www.kspta.org/wp-content/uploads/2025/03/Earth-Day-png.webp
ORGANIZER;CN="KSPTA":MAILTO:info@kspta.org
END:VEVENT
BEGIN:VEVENT
DTSTART;TZID=America/Los_Angeles:20250414T083000
DTEND;TZID=America/Los_Angeles:20250414T100000
DTSTAMP:20260423T155055
CREATED:20241028T190200Z
LAST-MODIFIED:20250307T130049Z
UID:51455-1744619400-1744624800@www.kspta.org
SUMMARY:KSPTA General Association Meeting [DATE CHANGED]
DESCRIPTION:
URL:https://www.kspta.org/event/kspta-general-association-meeting-5/
LOCATION:Bacich Elementary School\, 699 Sir Francis Drake Blvd\, Kentfield\, CA\, 94904\, United States
CATEGORIES:KSPTA General Association Meeting
ORGANIZER;CN="KSPTA":MAILTO:info@kspta.org
END:VEVENT
BEGIN:VEVENT
DTSTART;VALUE=DATE:20250327
DTEND;VALUE=DATE:20250513
DTSTAMP:20260423T155055
CREATED:20250327T205243Z
LAST-MODIFIED:20250501T153728Z
UID:52004-1743033600-1747094399@www.kspta.org
SUMMARY:Bacich Yearbooks Now Available
DESCRIPTION:You can now order your Bacich yearbook(s)! \nBacich Yearbooks Now Available \n \n 
URL:https://www.kspta.org/event/bacich-yearbooks-available-to-order/
LOCATION:CA
CATEGORIES:Event,KSPTA Event
ATTACH;FMTTYPE=image/jpeg:https://www.kspta.org/wp-content/uploads/2025/01/Bacich-Yearbook.webp
ORGANIZER;CN="KSPTA":MAILTO:info@kspta.org
END:VEVENT
BEGIN:VEVENT
DTSTART;VALUE=DATE:20250321
DTEND;VALUE=DATE:20250322
DTSTAMP:20260423T155055
CREATED:20250206T204429Z
LAST-MODIFIED:20250206T204525Z
UID:51955-1742515200-1742601599@www.kspta.org
SUMMARY:Bacich Talent Show (March 21)
DESCRIPTION:We are excited to announce the 6th annual Bacich Talent Show. To learn more\, visit https://www.bacichtalentshow.com/.
URL:https://www.kspta.org/event/bacich-talent-show-march-21/
LOCATION:Bacich Elementary School\, 699 Sir Francis Drake Blvd\, Kentfield\, CA\, 94904\, United States
CATEGORIES:Event,KSPTA Event
ATTACH;FMTTYPE=image/png:https://www.kspta.org/wp-content/uploads/2025/02/2025-talent-show-logo-png.webp
ORGANIZER;CN="KSPTA":MAILTO:info@kspta.org
END:VEVENT
BEGIN:VEVENT
DTSTART;TZID=America/Los_Angeles:20250307T083000
DTEND;TZID=America/Los_Angeles:20250307T100000
DTSTAMP:20260423T155055
CREATED:20241028T190042Z
LAST-MODIFIED:20250123T175626Z
UID:51453-1741336200-1741341600@www.kspta.org
SUMMARY:KSPTA General Association Meeting [DATE CHANGED]
DESCRIPTION:
URL:https://www.kspta.org/event/kspta-general-association-meeting-4/
LOCATION:Kent Middle School\, 800 College Ave\, Kentfield\, CA\, 94904\, United States
CATEGORIES:KSPTA General Association Meeting
ORGANIZER;CN="KSPTA":MAILTO:info@kspta.org
END:VEVENT
BEGIN:VEVENT
DTSTART;VALUE=DATE:20250303
DTEND;VALUE=DATE:20250308
DTSTAMP:20260423T155055
CREATED:20250204T142539Z
LAST-MODIFIED:20250204T150258Z
UID:51939-1740960000-1741391999@www.kspta.org
SUMMARY:Readathon Activity Week (March 3-7)
DESCRIPTION:We are excited to once again sponsor a district-wide Readathon. This annual Readathon fosters and celebrates the joy of reading and literacy in our kids while raising money for the Kentfield Schools PTA (KSPTA). \n\nPledges and Reading Minutes: Starting from February 13\nReadathon Activities at School:  March 3-7\n\nTo learn more\, visit https://www.kentfieldschoolsreadathon.com/.
URL:https://www.kspta.org/event/readathon-feb-13-mar-7/
LOCATION:CA
CATEGORIES:Event,KSPTA Event
ATTACH;FMTTYPE=image/jpeg:https://www.kspta.org/wp-content/uploads/2022/10/Readathon.jpg
END:VEVENT
BEGIN:VEVENT
DTSTART;VALUE=DATE:20250213
DTEND;VALUE=DATE:20250214
DTSTAMP:20260423T155055
CREATED:20250204T145642Z
LAST-MODIFIED:20250204T150327Z
UID:51942-1739404800-1739491199@www.kspta.org
SUMMARY:Start of Readathon Pledges & Reading (February 13)
DESCRIPTION:We are excited to once again sponsor a district-wide Readathon. This annual Readathon fosters and celebrates the joy of reading and literacy in our kids while raising money for the Kentfield Schools PTA (KSPTA). \n\nPledges and Reading Minutes: Starting from February 13\nReadathon Activities at School:  March 3-7\n\nTo learn more\, visit https://www.kentfieldschoolsreadathon.com/.
URL:https://www.kspta.org/event/start-of-readathon-pledges-reading-feb-13/
LOCATION:CA
CATEGORIES:Event,KSPTA Event
ATTACH;FMTTYPE=image/jpeg:https://www.kspta.org/wp-content/uploads/2025/02/Readathon-Start-1.webp
END:VEVENT
BEGIN:VEVENT
DTSTART;TZID=America/Los_Angeles:20250131T173000
DTEND;TZID=America/Los_Angeles:20250131T200000
DTSTAMP:20260423T155055
CREATED:20250107T220034Z
LAST-MODIFIED:20250116T221254Z
UID:51745-1738344600-1738353600@www.kspta.org
SUMMARY:Bacich Movie Night (Jan. 31)
DESCRIPTION:To learn more about this event\, reserve ticket(s)\, and pre-order pizza meals\, visit the following page: \nBacich Movie Night on January 31
URL:https://www.kspta.org/event/bacich-family-movie-night-jan-31/
LOCATION:Bacich Elementary School\, 699 Sir Francis Drake Blvd\, Kentfield\, CA\, 94904\, United States
CATEGORIES:Event,KSPTA Event
ATTACH;FMTTYPE=image/png:https://www.kspta.org/wp-content/uploads/2025/01/Minions-Movie-Night-Flyer-png.webp
ORGANIZER;CN="KSPTA":MAILTO:info@kspta.org
END:VEVENT
BEGIN:VEVENT
DTSTART;TZID=America/Los_Angeles:20250126T120000
DTEND;TZID=America/Los_Angeles:20250126T140000
DTSTAMP:20260423T155055
CREATED:20241213T202548Z
LAST-MODIFIED:20250123T175806Z
UID:51680-1737892800-1737900000@www.kspta.org
SUMMARY:Kent Chili Cook-Off [POSTPONED]
DESCRIPTION:UPDATE: This cook-off has been postponed. We’re looking forward to sharing updates as soon as we work on fresh ideas for a revamped event. Thank you for your understanding and support! \nThe Kent Chili Cook-Off is coming! \nBring your award winning chili or simply your appetite.  All Kent students\, families\, teachers\, and staff are welcome to participate in or attend the competition. Prizes will be awarded\, chili will be eaten\, and the NFL playoffs will be streaming. \nPrizes will go to best overall chili\, most creative chili\, and best chili presentation. \nYou may now register as a contestant or attendee! \nPlease send any questions to events@kspta.org. We are looking forward to seeing you at the Cook-Off!
URL:https://www.kspta.org/event/kent-chili-cookoff-2025/
LOCATION:Kent Middle School\, 800 College Ave\, Kentfield\, CA\, 94904\, United States
CATEGORIES:Event,KSPTA Event
ATTACH;FMTTYPE=image/png:https://www.kspta.org/wp-content/uploads/2025/01/Chili-Cook-Off-2025-English-png.webp
END:VEVENT
BEGIN:VEVENT
DTSTART;TZID=America/Los_Angeles:20250117T083000
DTEND;TZID=America/Los_Angeles:20250117T100000
DTSTAMP:20260423T155055
CREATED:20241028T190016Z
LAST-MODIFIED:20250123T175831Z
UID:51451-1737102600-1737108000@www.kspta.org
SUMMARY:KSPTA General Association Meeting
DESCRIPTION:
URL:https://www.kspta.org/event/kspta-general-association-meeting-3/
LOCATION:Kent Middle School\, 800 College Ave\, Kentfield\, CA\, 94904\, United States
CATEGORIES:KSPTA General Association Meeting
ORGANIZER;CN="KSPTA":MAILTO:info@kspta.org
END:VEVENT
BEGIN:VEVENT
DTSTART;TZID=America/Los_Angeles:20241213T083000
DTEND;TZID=America/Los_Angeles:20241213T100000
DTSTAMP:20260423T155055
CREATED:20241028T185856Z
LAST-MODIFIED:20241123T155838Z
UID:51449-1734078600-1734084000@www.kspta.org
SUMMARY:KSPTA General Association Meeting [CANCELLED]
DESCRIPTION:
URL:https://www.kspta.org/event/kspta-general-association-meeting-2/
LOCATION:Bacich Elementary School\, 699 Sir Francis Drake Blvd\, Kentfield\, CA\, 94904\, United States
CATEGORIES:KSPTA General Association Meeting
ORGANIZER;CN="KSPTA":MAILTO:info@kspta.org
END:VEVENT
BEGIN:VEVENT
DTSTART;TZID=America/Los_Angeles:20241211T130000
DTEND;TZID=America/Los_Angeles:20241211T160000
DTSTAMP:20260423T155055
CREATED:20241028T183543Z
LAST-MODIFIED:20241029T200827Z
UID:51437-1733922000-1733932800@www.kspta.org
SUMMARY:Winter Market (Dec. 11)
DESCRIPTION:KSPTA is happy to announce the 2nd Annual Winter Market! \n\nWhen: Wednesday December 11\, 2024 from 1- 4 PM\nWhere: Bacich Community Center\n\nThe market will feature Bacich and Kent student handmade items.\n\nApplications are due by November 13.  Please apply using our online form (English version\, Spanish version) or have your child return the paper application to their homeroom/first period.\n\nIf you would like to participate in the Winter Market planning committee\, please contact events@kspta.org. See you at the Market!
URL:https://www.kspta.org/event/winter-market-2024/
LOCATION:Bacich Elementary School\, 699 Sir Francis Drake Blvd\, Kentfield\, CA\, 94904\, United States
CATEGORIES:KSPTA Event
ATTACH;FMTTYPE=image/png:https://www.kspta.org/wp-content/uploads/2024/10/KSPTA-Winter-Market-2024-png.webp
ORGANIZER;CN="KSPTA":MAILTO:info@kspta.org
END:VEVENT
BEGIN:VEVENT
DTSTART;TZID=America/Los_Angeles:20241204T180000
DTEND;TZID=America/Los_Angeles:20241204T193000
DTSTAMP:20260423T155055
CREATED:20241123T161930Z
LAST-MODIFIED:20241123T162533Z
UID:51664-1733335200-1733340600@www.kspta.org
SUMMARY:Screenagers (December 4)
DESCRIPTION:Join us for a private screening of Screenagers (Elementary School Age Edition) to our school community! This new version of the original Screenagers movie addresses issues that both elementary and middle school-aged kids\, parents and educators are facing. This includes smartwatches in class\, unhooking from and monitoring video gaming\, social media pressures\, exposure too young and what research shows is a healthy amount of screen time. With many solutions to these and other challenges. The movie is 55 minutes.\n\nWhat: Screenagers movie + Q&A session post movie\nWhen: Wednesday\, December 4th from 6:00-7:30pm\nWhere: Bacich Community Center\nWho: All parents\, caregivers\, kids\, teachers\, and staff \n\nNOTE: This event is free but please RSVP here.
URL:https://www.kspta.org/event/parent-ed-movie-screenagers-elementary-school-age-edition/
LOCATION:Bacich Elementary School\, 699 Sir Francis Drake Blvd\, Kentfield\, CA\, 94904\, United States
CATEGORIES:Event,KSPTA Event
ATTACH;FMTTYPE=image/png:https://www.kspta.org/wp-content/uploads/2024/11/Screenagers-Elementary-Edition-Thumbnail-300x169-1-png.webp
ORGANIZER;CN="KSPTA":MAILTO:info@kspta.org
END:VEVENT
BEGIN:VEVENT
DTSTART;VALUE=DATE:20241115
DTEND;VALUE=DATE:20241117
DTSTAMP:20260423T155055
CREATED:20241029T195449Z
LAST-MODIFIED:20241105T215102Z
UID:51551-1731628800-1731801599@www.kspta.org
SUMMARY:Kent Musical (Nov. 15 & 16)
DESCRIPTION:KIK is proud to present the 3rd annual Kent Middle School musical! \nWatch the Kent Falcons take the stage for the 2024 musical production of Disney’s High School Musical Jr.! This production will be great for all ages\, and we encourage all Bacich Bear and Kent Falcon families to attend. \nPerformances: \n\nFriday\, November 15th at 6:30pm\nSaturday\, November 16th at 2:30pm and 6:30pm\n\nPurchase tickets HERE. Pre-order flowers HERE.
URL:https://www.kspta.org/event/kent-middle-musical-fall-2024/
LOCATION:Kent Middle School\, 800 College Ave\, Kentfield\, CA\, 94904\, United States
CATEGORIES:Event
ATTACH;FMTTYPE=image/jpeg:https://www.kspta.org/wp-content/uploads/2024/10/unnamed-1-jpg.webp
END:VEVENT
BEGIN:VEVENT
DTSTART;VALUE=DATE:20241112
DTEND;VALUE=DATE:20241116
DTSTAMP:20260423T155055
CREATED:20241017T184614Z
LAST-MODIFIED:20241029T200854Z
UID:51424-1731369600-1731715199@www.kspta.org
SUMMARY:Book Fair (Nov. 12-15)
DESCRIPTION:Get ready for the 2024 Book Fair! \nThis beloved event benefits the KSPTA and encourages our students to fall in love with reading (and writing!) all over again. The Book Fair runs from Tuesday\, November 12 to Friday\, November 15 so get excited for Taco Tuesday family dinner and Thursday night Cookies & Cocoa! \nIf you are available to volunteer\, please sign-up at this link! \n\n2024 Book Fair Volunteer Sign-up
URL:https://www.kspta.org/event/book-fair-2024/
LOCATION:Bacich Elementary School\, 699 Sir Francis Drake Blvd\, Kentfield\, CA\, 94904\, United States
CATEGORIES:KSPTA Event
ATTACH;FMTTYPE=application/pdf:https://www.kspta.org/wp-content/uploads/2024/10/KSPTA-2024-Book-Fair-Flyer-2.pdf
ORGANIZER;CN="KSPTA":MAILTO:info@kspta.org
END:VEVENT
BEGIN:VEVENT
DTSTART;TZID=America/Los_Angeles:20241108T083000
DTEND;TZID=America/Los_Angeles:20241108T100000
DTSTAMP:20260423T155055
CREATED:20241028T185703Z
LAST-MODIFIED:20241028T185924Z
UID:51446-1731054600-1731060000@www.kspta.org
SUMMARY:KSPTA General Association Meeting
DESCRIPTION:
URL:https://www.kspta.org/event/kspta-general-association-meeting/
LOCATION:Bacich Elementary School\, 699 Sir Francis Drake Blvd\, Kentfield\, CA\, 94904\, United States
CATEGORIES:KSPTA General Association Meeting
ORGANIZER;CN="KSPTA":MAILTO:info@kspta.org
END:VEVENT
BEGIN:VEVENT
DTSTART;TZID=America/Los_Angeles:20240503T083000
DTEND;TZID=America/Los_Angeles:20240503T100000
DTSTAMP:20260423T155055
CREATED:20230620T234509Z
LAST-MODIFIED:20231007T135211Z
UID:48928-1714725000-1714730400@www.kspta.org
SUMMARY:KSPTA General Meeting
DESCRIPTION:Join the KSPTA to discuss important topics that affect our school community. This is a great opportunity to get relevant updates and connect with other parents. Everyone is welcome!
URL:https://www.kspta.org/event/kspta-general-meeting-2024-04/
LOCATION:Kent Middle School\, 800 College Ave\, Kentfield\, CA\, 94904\, United States
CATEGORIES:KSPTA General Association Meeting
ORGANIZER;CN="KSPTA":MAILTO:info@kspta.org
END:VEVENT
BEGIN:VEVENT
DTSTART;TZID=America/Los_Angeles:20240329T083000
DTEND;TZID=America/Los_Angeles:20240329T100000
DTSTAMP:20260423T155055
CREATED:20230620T234403Z
LAST-MODIFIED:20231007T135042Z
UID:48927-1711701000-1711706400@www.kspta.org
SUMMARY:KSPTA General Meeting
DESCRIPTION:Join the KSPTA to discuss important topics that affect our school community. This is a great opportunity to get relevant updates and connect with other parents. Everyone is welcome!
URL:https://www.kspta.org/event/kspta-general-meeting-2024-03-22/
LOCATION:Bacich Elementary School\, 699 Sir Francis Drake Blvd\, Kentfield\, CA\, 94904\, United States
CATEGORIES:KSPTA General Association Meeting
ORGANIZER;CN="KSPTA":MAILTO:info@kspta.org
END:VEVENT
BEGIN:VEVENT
DTSTART;TZID=America/Los_Angeles:20240326T180000
DTEND;TZID=America/Los_Angeles:20240326T193000
DTSTAMP:20260423T155055
CREATED:20240321T212925Z
LAST-MODIFIED:20240326T181426Z
UID:50530-1711476000-1711481400@www.kspta.org
SUMMARY:Vigilant Parent Social Media Training Session
DESCRIPTION:KSPTA is excited to host the Marin County Sheriff’s Office Vigilant Parent Program on March 26\, in the Kent Library. \nThe Vigilant Parent Initiative is geared towards educating the community on social media and technology how-tos\, prevention\, awareness\, and knowing how to talk to their child about protecting themselves online. Teaching kids how to password protect and maintain privacy online are part of parenting nowadays. Additionally\, the Vigilant Parent initiative provides online safety training and identifies the signs to watch out for when a child may potentially be in danger on-line. The Sheriff’s office will train parents on popular apps like TikTok and Snapchat via hands-on\, interactive learning and also provide the vocabulary that may be referenced by your child. \nParents are encouraged to start conversations with their children early and to keep up with the latest social media trends. The Sheriff’s office will provide 40 iPads for use during the session. Attendees are also free to bring their own devices
URL:https://www.kspta.org/event/vigilant-parent-social-media-training-session/
LOCATION:Kent Middle School\, 800 College Ave\, Kentfield\, CA\, 94904\, United States
ORGANIZER;CN="KSPTA":MAILTO:info@kspta.org
END:VEVENT
BEGIN:VEVENT
DTSTART;VALUE=DATE:20240313
DTEND;VALUE=DATE:20240314
DTSTAMP:20260423T155055
CREATED:20240215T172541Z
LAST-MODIFIED:20240215T172816Z
UID:50506-1710288000-1710374399@www.kspta.org
SUMMARY:Bacich Readathon
DESCRIPTION:We are excited to once again sponsor a district-wide Readathon. This annual Readathon fosters and celebrates the joy of reading and literacy in our kids while raising money for the Kentfield Schools PTA (KSPTA). \nTo learn more\, visit https://www.kentfieldschoolsreadathon.com/.
URL:https://www.kspta.org/event/bacich-readathon/
LOCATION:Bacich Elementary School\, 699 Sir Francis Drake Blvd\, Kentfield\, CA\, 94904\, United States
ATTACH;FMTTYPE=image/jpeg:https://www.kspta.org/wp-content/uploads/2022/10/Readathon.jpg
ORGANIZER;CN="KSPTA":MAILTO:info@kspta.org
END:VEVENT
BEGIN:VEVENT
DTSTART;VALUE=DATE:20240311
DTEND;VALUE=DATE:20240315
DTSTAMP:20260423T155055
CREATED:20240215T172614Z
LAST-MODIFIED:20240215T172859Z
UID:50508-1710115200-1710460799@www.kspta.org
SUMMARY:Kent Readathon
DESCRIPTION:We are excited to once again sponsor a district-wide Readathon. This annual Readathon fosters and celebrates the joy of reading and literacy in our kids while raising money for the Kentfield Schools PTA (KSPTA). \nTo learn more\, visit https://www.kentfieldschoolsreadathon.com/.
URL:https://www.kspta.org/event/kent-readathon-2/
LOCATION:Kent Middle School\, 800 College Ave\, Kentfield\, CA\, 94904\, United States
ATTACH;FMTTYPE=image/jpeg:https://www.kspta.org/wp-content/uploads/2022/03/ReadathonLogo.jpg
ORGANIZER;CN="KSPTA":MAILTO:info@kspta.org
END:VEVENT
BEGIN:VEVENT
DTSTART;TZID=America/Los_Angeles:20240301T083000
DTEND;TZID=America/Los_Angeles:20240301T100000
DTSTAMP:20260423T155055
CREATED:20230620T234314Z
LAST-MODIFIED:20231007T135157Z
UID:48926-1709281800-1709287200@www.kspta.org
SUMMARY:KSPTA General Meeting
DESCRIPTION:Join the KSPTA to discuss important topics that affect our school community. This is a great opportunity to get relevant updates and connect with other parents. Everyone is welcome!
URL:https://www.kspta.org/event/kspta-general-meeting-2024-03-01/
LOCATION:Kent Middle School\, 800 College Ave\, Kentfield\, CA\, 94904\, United States
CATEGORIES:KSPTA General Association Meeting
ORGANIZER;CN="KSPTA":MAILTO:info@kspta.org
END:VEVENT
BEGIN:VEVENT
DTSTART;TZID=America/Los_Angeles:20240201T183000
DTEND;TZID=America/Los_Angeles:20240201T200000
DTSTAMP:20260423T155055
CREATED:20240130T174407Z
LAST-MODIFIED:20240130T200601Z
UID:50493-1706812200-1706817600@www.kspta.org
SUMMARY:“Transforming Anxiety into a Superpower” with Dr. Tracy Foose (Parent Education Presentation)
DESCRIPTION:Anxiety evolved to protect us\, but nowadays\, it’s a much-maligned emotion. This mind/body awareness of potential threats can feel so overwhelming and uncomfortable that it stops serving as a protective messenger and starts feeling like a menace. In our current mental health climate\, it’s even been labeled an epidemic. Misunderstanding this emotion has made us anxious about anxiety itself. Kids… parents… we could all use a reset. Viewing anxiety from an evolutionary perspective helps us admire the human body’s natural response to threats with humor and awe and befriend the wild animal that lives beneath our skin. Anxiety can protect us\, energize us\, and show us what we hold dear in life. When we help our kids discover their anxiety’s purpose\, we can teach them how to harness its power. \nBefore starting a psychiatry practice specializing in anxiety\, Dr. Foose was director of the Anxiety Disorders Program at UCSF Weill Institute of Neurosciences\, where she continues to teach at the school of medicine. Her favorite teaching gigs\, however\, are within her own community – speaking at schools\, organizations\, and guest appearances on NPR. She and her gastroenterologist husband are parents to a high schooler\, middle schooler\, and grade-schooler this year and delight in embarrassing their 3 daughters by gabbing about the brain and gut in very public settings.
URL:https://www.kspta.org/event/transforming-anxiety-into-a-superpower-with-dr-tracy-foose-parent-education-presentation/
LOCATION:The Cove School\, 330 Golden Hind Passage\, Corte Madera\, CA\, 94925
ORGANIZER;CN="KSPTA":MAILTO:info@kspta.org
END:VEVENT
BEGIN:VEVENT
DTSTART;TZID=America/Los_Angeles:20240119T170000
DTEND;TZID=America/Los_Angeles:20240119T200000
DTSTAMP:20260423T155055
CREATED:20231023T230210Z
LAST-MODIFIED:20240110T215624Z
UID:49860-1705683600-1705694400@www.kspta.org
SUMMARY:Bacich Movie Night
DESCRIPTION:To learn more about this event\, reserve ticket(s)\, and pre-order pizza meals\, visit the following page: \nBacich Movie Night on January 19
URL:https://www.kspta.org/event/bacich-movie-night-2024-01-19/
LOCATION:Bacich Elementary School\, 699 Sir Francis Drake Blvd\, Kentfield\, CA\, 94904\, United States
ORGANIZER;CN="KSPTA":MAILTO:info@kspta.org
END:VEVENT
BEGIN:VEVENT
DTSTART;TZID=America/Los_Angeles:20240119T083000
DTEND;TZID=America/Los_Angeles:20240119T100000
DTSTAMP:20260423T155055
CREATED:20230620T233952Z
LAST-MODIFIED:20231007T135055Z
UID:48925-1705653000-1705658400@www.kspta.org
SUMMARY:KSPTA General Meeting
DESCRIPTION:Join the KSPTA to discuss important topics that affect our school community. This is a great opportunity to get relevant updates and connect with other parents. Everyone is welcome!
URL:https://www.kspta.org/event/kspta-general-meeting-2024-01/
LOCATION:Bacich Elementary School\, 699 Sir Francis Drake Blvd\, Kentfield\, CA\, 94904\, United States
CATEGORIES:KSPTA General Association Meeting
ORGANIZER;CN="KSPTA":MAILTO:info@kspta.org
END:VEVENT
BEGIN:VEVENT
DTSTART;TZID=America/Los_Angeles:20231213T130000
DTEND;TZID=America/Los_Angeles:20231213T160000
DTSTAMP:20260423T155055
CREATED:20231023T225932Z
LAST-MODIFIED:20231023T230407Z
UID:49855-1702472400-1702483200@www.kspta.org
SUMMARY:Winter Market
DESCRIPTION:Please shop the Kentfield School District’s Winter Market with beautiful items handmade by Bacich and Kent students!
URL:https://www.kspta.org/event/winter-market-2023/
LOCATION:Bacich Elementary School\, 699 Sir Francis Drake Blvd\, Kentfield\, CA\, 94904\, United States
ORGANIZER;CN="KSPTA":MAILTO:info@kspta.org
END:VEVENT
BEGIN:VEVENT
DTSTART;TZID=America/Los_Angeles:20231211T190000
DTEND;TZID=America/Los_Angeles:20231211T200000
DTSTAMP:20260423T155055
CREATED:20231107T174926Z
LAST-MODIFIED:20231113T172804Z
UID:50039-1702321200-1702324800@www.kspta.org
SUMMARY:Katie Greer on Internet Safety (Parent Education Presentation)
DESCRIPTION:To view details and register for this free event\, visit this page.
URL:https://www.kspta.org/event/katie-greer-on-internet-safety-parent-education-presentation/
LOCATION:Kent Middle School\, 800 College Ave\, Kentfield\, CA\, 94904\, United States
ORGANIZER;CN="KSPTA":MAILTO:info@kspta.org
END:VEVENT
BEGIN:VEVENT
DTSTART;TZID=America/Los_Angeles:20231208T083000
DTEND;TZID=America/Los_Angeles:20231208T100000
DTSTAMP:20260423T155055
CREATED:20230620T233904Z
LAST-MODIFIED:20231007T135140Z
UID:48924-1702024200-1702029600@www.kspta.org
SUMMARY:KSPTA General Meeting (TBD)
DESCRIPTION:Join the KSPTA to discuss important topics that affect our school community. This is a great opportunity to get relevant updates and connect with other parents. Everyone is welcome! \nNote that it’s possible this particular general meeting will be cancelled; we will post updates here as we have them.
URL:https://www.kspta.org/event/kspta-general-meeting-2023-12/
LOCATION:Kent Middle School\, 800 College Ave\, Kentfield\, CA\, 94904\, United States
CATEGORIES:KSPTA General Association Meeting
ORGANIZER;CN="KSPTA":MAILTO:info@kspta.org
END:VEVENT
END:VCALENDAR